BEGIN:VCALENDAR
VERSION:2.0
PRODID:-//ChamberMaster//Event Calendar 2.0//EN
METHOD:PUBLISH
X-PUBLISHED-TTL:P3D
REFRESH-INTERVAL:P3D
CALSCALE:GREGORIAN
BEGIN:VEVENT
DTSTART:20180127T150000Z
DTEND:20180127T170000Z
X-MICROSOFT-CDO-ALLDAYEVENT:FALSE
SUMMARY:Snowshoe Hike at Groen Preserve
DESCRIPTION:Snowshoe the beautiful Groen Preserve in Johannesburg. Take the short one mile loop or the longer two mile loop by the lake. Beautiful scenery along the way. Great event for families of all ages. Free snowshoes available for toddler\, youth and adult. Hot chocolate served.
X-ALT-DESC;FMTTYPE=text/html:Snowshoe the beautiful Groen Preserve in Johannesburg. Take the short one mile loop or the longer two mile loop by the lake. Beautiful scenery along the way. Great event for families of all ages. Free snowshoes available for toddler\, youth and adult. Hot chocolate served.
LOCATION:Groen Preserve\, 2043 Gingell Rd.\, Johannesburg\, MI
UID:e.3034.1306
SEQUENCE:3
DTSTAMP:20260423T211553Z
URL:https://www.gaylordchamber.com/events/details/snowshoe-hike-at-groen-preserve-1306
END:VEVENT

END:VCALENDAR
