BEGIN:VCALENDAR
VERSION:2.0
PRODID:-//ChamberMaster//Event Calendar 2.0//EN
METHOD:PUBLISH
X-PUBLISHED-TTL:P3D
REFRESH-INTERVAL:P3D
CALSCALE:GREGORIAN
BEGIN:VEVENT
DTSTART:20260425T140000Z
DTEND:20260425T180000Z
X-MICROSOFT-CDO-ALLDAYEVENT:FALSE
SUMMARY:Otsego Area Family Fun Fair 2026
DESCRIPTION:Fun activities for families with young children. Over 30 community organizations each sharing an activity for children and parents. Music\, crafts\, discovery\, movement\, and much more. Parents attend with your children. Organized by a local volunteer planning committee.
X-ALT-DESC;FMTTYPE=text/html:Fun activities for families with young children. Over 30 community organizations each sharing an activity for children and parents. Music\, crafts\, discovery\, movement\, and much more. Parents attend with your children. Organized by a local volunteer planning committee.
LOCATION:Gaylord Middle School. 600 E. Fifth St\, Gaylord MI 49735
UID:e.3034.13414
SEQUENCE:3
DTSTAMP:20260423T105605Z
URL:https://www.gaylordchamber.com/events/details/otsego-area-family-fun-fair-2026-13414
END:VEVENT

END:VCALENDAR
