BEGIN:VCALENDAR
VERSION:2.0
PRODID:-//ChamberMaster//Event Calendar 2.0//EN
METHOD:PUBLISH
X-PUBLISHED-TTL:P3D
REFRESH-INTERVAL:P3D
CALSCALE:GREGORIAN
BEGIN:VEVENT
DTSTART:20181020T140000Z
DTEND:20181020T160000Z
X-MICROSOFT-CDO-ALLDAYEVENT:FALSE
SUMMARY:NMET Halloween Fun Run
DESCRIPTION:1-mile walk or 5k run on NMET's picturesque property. The course features wooded trails and jogging strollers are permitted. Water and popcorn provided. The horses will wear their costumes\, don't forget yours!
X-ALT-DESC;FMTTYPE=text/html:1-mile walk or 5k run on NMET&#39\;s picturesque property. The course features wooded trails and jogging strollers are permitted. Water and popcorn provided. The horses will wear their costumes\, don&#39\;t forget yours!
LOCATION:Northern Michigan Equine Therapy 05025 Church Road Boyne City\, MI 49712
UID:e.3034.2530
SEQUENCE:3
DTSTAMP:20260424T095950Z
URL:https://www.gaylordchamber.com/events/details/nmet-halloween-fun-run-2530
END:VEVENT

END:VCALENDAR
