BEGIN:VCALENDAR
VERSION:2.0
PRODID:-//ChamberMaster//Event Calendar 2.0//EN
METHOD:PUBLISH
X-PUBLISHED-TTL:P3D
REFRESH-INTERVAL:P3D
CALSCALE:GREGORIAN
BEGIN:VEVENT
DTSTART;VALUE=DATE:20230603
DTEND;VALUE=DATE:20230604
TRANSP:TRANSPARENT
X-MICROSOFT-CDO-ALLDAYEVENT:TRUE
SUMMARY:Cornhole Tournament Fundraiser
DESCRIPTION:We are excited to announce we are co-hosting a Cornhole Tournament Fundraiser alongside The Pine Squirrel on Saturday\, June 3rd\, 2023 at 12:00 pm. Register to play cornhole and help raise funds to assist young people in Otsego County who experience adversity in the face of homelessness.\n\n\n\n$50 per team\n\n1st\, 2nd\, & 3rd place prizes! \n\nDouble elimination with a guarantee of four games.\n\nAll ticket sales & donations doubled by matching grant from Otsego Community Foundation!
X-ALT-DESC;FMTTYPE=text/html:We are excited to announce we are co-hosting a Cornhole Tournament Fundraiser alongside The Pine Squirrel on Saturday\, June 3rd\, 2023 at 12:00 pm. Register to play cornhole and help raise funds to assist young people in Otsego County who experience adversity in the face of homelessness.<br />\n<br />\n$50 per team<br />\n1st\, 2nd\, &amp\; 3rd place prizes!&nbsp\;<br />\nDouble elimination with a guarantee of four games.<br />\n<strong>All ticket sales &amp\; donations doubled by matching grant from Otsego Community Foundation!</strong>
LOCATION:Pine Squirrel 1600 S. Otsego Ave. Gaylord\, MI 49735
UID:e.3034.6916
SEQUENCE:3
DTSTAMP:20260422T135933Z
URL:https://www.gaylordchamber.com/events/details/cornhole-tournament-fundraiser-6916
END:VEVENT

END:VCALENDAR
